BEGIN:VCALENDAR
VERSION:2.0
PRODID:-//Europe direct Čakovec - ECPv6.3.4//NONSGML v1.0//EN
CALSCALE:GREGORIAN
METHOD:PUBLISH
X-WR-CALNAME:Europe direct Čakovec
X-ORIGINAL-URL:https://europedirect-cakovec.eu
X-WR-CALDESC:Događaji za Europe direct Čakovec
REFRESH-INTERVAL;VALUE=DURATION:PT1H
X-Robots-Tag:noindex
X-PUBLISHED-TTL:PT1H
BEGIN:VTIMEZONE
TZID:Europe/Zagreb
BEGIN:DAYLIGHT
TZOFFSETFROM:+0100
TZOFFSETTO:+0200
TZNAME:CEST
DTSTART:20170326T010000
END:DAYLIGHT
BEGIN:STANDARD
TZOFFSETFROM:+0200
TZOFFSETTO:+0100
TZNAME:CET
DTSTART:20171029T010000
END:STANDARD
END:VTIMEZONE
BEGIN:VEVENT
DTSTART;TZID=Europe/Zagreb:20170502T100000
DTEND;TZID=Europe/Zagreb:20170502T120000
DTSTAMP:20260422T234914
CREATED:20170421T094934Z
LAST-MODIFIED:20170421T095229Z
UID:5861-1493719200-1493726400@europedirect-cakovec.eu
SUMMARY:Dan Europe u Prelogu
DESCRIPTION:Dan Europe u Prelogu s informativnim štandom za građane i radionicama na otvorenom za vrtiće
URL:https://europedirect-cakovec.eu/dogadaj/dan-europe-u-prelogu/
LOCATION:Glavni Trg\, Prelog
ATTACH;FMTTYPE=image/jpeg:https://europedirect-cakovec.eu/wp-content/uploads/2017/04/Dan-Europe-2-e1492768161358.jpg
END:VEVENT
END:VCALENDAR