BEGIN:VCALENDAR
VERSION:2.0
PRODID:-//Europe direct Čakovec - ECPv6.3.4//NONSGML v1.0//EN
CALSCALE:GREGORIAN
METHOD:PUBLISH
X-WR-CALNAME:Europe direct Čakovec
X-ORIGINAL-URL:https://europedirect-cakovec.eu
X-WR-CALDESC:Događaji za Europe direct Čakovec
REFRESH-INTERVAL;VALUE=DURATION:PT1H
X-Robots-Tag:noindex
X-PUBLISHED-TTL:PT1H
BEGIN:VTIMEZONE
TZID:Europe/Zagreb
BEGIN:DAYLIGHT
TZOFFSETFROM:+0100
TZOFFSETTO:+0200
TZNAME:CEST
DTSTART:20170326T010000
END:DAYLIGHT
BEGIN:STANDARD
TZOFFSETFROM:+0200
TZOFFSETTO:+0100
TZNAME:CET
DTSTART:20171029T010000
END:STANDARD
END:VTIMEZONE
BEGIN:VEVENT
DTSTART;TZID=Europe/Zagreb:20170705T100000
DTEND;TZID=Europe/Zagreb:20170705T130000
DTSTAMP:20260422T205513
CREATED:20170704T060743Z
LAST-MODIFIED:20170704T060743Z
UID:6102-1499248800-1499259600@europedirect-cakovec.eu
SUMMARY:Ususret petoj godini članstva Hrvatske u Europskoj Uniji
DESCRIPTION:Konferencija se održava pod visokim pokroviteljstvom predsjednice Republike Hrvatske Kolinda Grabar-Kitarović\, uz sudjelovanje uvaženih gostiju iz Vlada Republike Hrvatske i Hrvatska gospodarska komora komora čija ćemo obraćanja imati priliku čuti u uvodnom dijelu.\nViše: http://europa.eu/!dH74Rn\n#5godinaEU \nSudjelovanje potvrdite registracijom putem prijavnog obrasca:https://goo.gl/WyvrHF \nUslijed protokolarnih i sigurnosnih razloga\, ulaz će biti omogućen samo prijavljenim osobama. \nNapomena:\nPrijava sudjelovanja i moguće prikupljanje osobnih podataka izvršit će se u skladu s Direktivom 95/46/EZ i Uredbom (EZ) br. 45/2001. Obrada podataka bit će ograničena i korištena isključivo u svrhu potrebe organiziranja događanja. Prijava na događaj i sudjelovanje na njemu podrazumijevaju i suglasnost s fotografiranjem te video i audio snimanjem.
URL:https://europedirect-cakovec.eu/dogadaj/ususret-petoj-godini-clanstva-hrvatske-u-europskoj-uniji/
LOCATION:The Westin Hotel\, Izidora Kršnjavog 1\, Zagreb
ATTACH;FMTTYPE=image/jpeg:https://europedirect-cakovec.eu/wp-content/uploads/2017/07/5-godina-u-EU.jpg
END:VEVENT
END:VCALENDAR