BEGIN:VCALENDAR
VERSION:2.0
PRODID:-//Europe direct Čakovec - ECPv6.3.4//NONSGML v1.0//EN
CALSCALE:GREGORIAN
METHOD:PUBLISH
X-ORIGINAL-URL:https://europedirect-cakovec.eu
X-WR-CALDESC:Događaji za Europe direct Čakovec
REFRESH-INTERVAL;VALUE=DURATION:PT1H
X-Robots-Tag:noindex
X-PUBLISHED-TTL:PT1H
BEGIN:VTIMEZONE
TZID:Europe/Zagreb
BEGIN:DAYLIGHT
TZOFFSETFROM:+0100
TZOFFSETTO:+0200
TZNAME:CEST
DTSTART:20180325T010000
END:DAYLIGHT
BEGIN:STANDARD
TZOFFSETFROM:+0200
TZOFFSETTO:+0100
TZNAME:CET
DTSTART:20181028T010000
END:STANDARD
END:VTIMEZONE
BEGIN:VEVENT
DTSTART;TZID=Europe/Zagreb:20180213T100000
DTEND;TZID=Europe/Zagreb:20180213T130000
DTSTAMP:20260422T102403
CREATED:20180207T092041Z
LAST-MODIFIED:20180207T092253Z
UID:6431-1518516000-1518526800@europedirect-cakovec.eu
SUMMARY:Konferencija i dijalog s građanima na temu jedinstvenog digitalnog tržišta
DESCRIPTION:MJESTO: Hotel Westin\, Zagreb \nPredstavništvo Europske komisije u Hrvatskoj i Hrvatska gospodarska komora\, u partnerstvu sa Središnjim državnim uredom za razvoj digitalnog društva zajednički organiziraju konferenciju Jedinstveno digitalno tržište – izazovi digitalne transformacije poslovnog sektora\, koja će se održati 13. veljače. \nStvaranje jedinstvenog digitalnog tržišta na području Europske unije jedan je od temeljnih ciljeva Europske komisije. Internet i digitalne tehnologije mijenjaju današnji svijet\, ali postojeće prepreke ograničavaju potpunu slobodu kretanja roba\, usluga\, ljudi i kapitala. Svjesni izazova s kojima se gospodarstvo suočava te nastojanja Europske komisije da stvori preduvjete za digitalnu ekonomiju\, Predstavništvo Europske komisije u Hrvatskoj i Hrvatska gospodarska komora\, u partnerstvu sa Središnjim državnim uredom za razvoj digitalnog društva zajednički organiziraju konferenciju Jedinstveno digitalno tržište – izazovi digitalne transformacije poslovnog sektora\, koja će se održati 13. veljače 2018. u Zagrebu od 10:00 sati. Sudionicima će se pozdravnim govorom obratiti Andrej Plenković\, predsjednik Vlade Republike Hrvatske. \nKao posebnoga gosta najavljujemo Andrusa Ansipa\, potpredsjednika Europske komisije nadležnog za jedinstveno digitalno tržište\, koji će održati Dijalog s građanima te će mu sudionici moći izravno postavljati pitanja. \nDijalog s građanima format je neposredne komunikacije Europske komisije s javnošću putem kojega Komisija želi osnažiti razmjenu mišljenja s građanima o budućim pravcima razvoja Europske unije. \nCilj je Konferencije podići svijest među poslovnom zajednicom o važnosti korištenja informacijsko-komunikacijskih tehnologija u svim segmentima gospodarstva\, razmijeniti iskustva o prihvaćanju digitalnih tehnologija te otvoreno govoriti o ključnim izazovima digitalne transformacije poslovnog sektora u Hrvatskoj\, o čemu će se raspravljati na panelu. \nKao pripremu za Konferenciju\, Hrvatska gospodarska komora provodi među poduzetnicima anketu o digitalnom poslovanju i očekivanjima\, čiji će rezultati biti predstavljeni na Konferenciji. \nMolimo Vas da sudjelovanje potvrdite do 11. veljače registracijom putem prijavnog obrasca.
URL:https://europedirect-cakovec.eu/dogadaj/konferencija-i-dijalog-s-gradanima-na-temu-jedinstvenog-digitalnog-trzista/
LOCATION:Hotel Westin\, Zagreb
ATTACH;FMTTYPE=image/jpeg:https://europedirect-cakovec.eu/wp-content/uploads/2018/02/Andrus-Ansip.jpg
END:VEVENT
END:VCALENDAR