BEGIN:VCALENDAR
VERSION:2.0
PRODID:-//Europe direct Čakovec - ECPv6.3.4//NONSGML v1.0//EN
CALSCALE:GREGORIAN
METHOD:PUBLISH
X-ORIGINAL-URL:https://europedirect-cakovec.eu
X-WR-CALDESC:Događaji za Europe direct Čakovec
REFRESH-INTERVAL;VALUE=DURATION:PT1H
X-Robots-Tag:noindex
X-PUBLISHED-TTL:PT1H
BEGIN:VTIMEZONE
TZID:Europe/Zagreb
BEGIN:DAYLIGHT
TZOFFSETFROM:+0100
TZOFFSETTO:+0200
TZNAME:CEST
DTSTART:20190331T010000
END:DAYLIGHT
BEGIN:STANDARD
TZOFFSETFROM:+0200
TZOFFSETTO:+0100
TZNAME:CET
DTSTART:20191027T010000
END:STANDARD
END:VTIMEZONE
BEGIN:VEVENT
DTSTART;TZID=Europe/Zagreb:20190507T110000
DTEND;TZID=Europe/Zagreb:20190507T130000
DTSTAMP:20260421T102033
CREATED:20190508T061555Z
LAST-MODIFIED:20190508T061555Z
UID:7699-1557226800-1557234000@europedirect-cakovec.eu
SUMMARY:Finale EU kviza za sedme razrede
DESCRIPTION:Tradicionalno sedamnaesto izdanje EU kviza te su mnoge generacije o Europskoj uniji prvi puta učili pripremajući se upravo za ovaj kviz znanja. Kviz  se provodi u dva kruga\, kvalifikacijski krug\, koji se održao sredinom travnja te su u njemu imale mogućnost sudjelovati sve osnovne škole\, dok je u finalni krug ušlo 6 najboljih timova. \nOvaj put za finale nas ugošćuje II. OŠ Čakovec.
URL:https://europedirect-cakovec.eu/dogadaj/finale-eu-kviza-za-sedme-razrede/
END:VEVENT
END:VCALENDAR