BEGIN:VCALENDAR
VERSION:2.0
PRODID:-//Europe direct Čakovec - ECPv6.3.4//NONSGML v1.0//EN
CALSCALE:GREGORIAN
METHOD:PUBLISH
X-WR-CALNAME:Europe direct Čakovec
X-ORIGINAL-URL:https://europedirect-cakovec.eu
X-WR-CALDESC:Događaji za Europe direct Čakovec
REFRESH-INTERVAL;VALUE=DURATION:PT1H
X-Robots-Tag:noindex
X-PUBLISHED-TTL:PT1H
BEGIN:VTIMEZONE
TZID:Europe/Zagreb
BEGIN:DAYLIGHT
TZOFFSETFROM:+0100
TZOFFSETTO:+0200
TZNAME:CEST
DTSTART:20170326T010000
END:DAYLIGHT
BEGIN:STANDARD
TZOFFSETFROM:+0200
TZOFFSETTO:+0100
TZNAME:CET
DTSTART:20171029T010000
END:STANDARD
END:VTIMEZONE
BEGIN:VEVENT
DTSTART;TZID=Europe/Zagreb:20170324T111500
DTEND;TZID=Europe/Zagreb:20170324T124500
DTSTAMP:20260423T015613
CREATED:20170316T123409Z
LAST-MODIFIED:20170316T123409Z
UID:5744-1490354100-1490359500@europedirect-cakovec.eu
SUMMARY:Razgovarajte o poljoprivredi s europskim povjerenikom Philom Hoganom
DESCRIPTION:Phil Hogan je europski povjerenik za poljoprivredu. Prije imenovanja na tu funkciju bio je ministar okoliša\, zajednice i lokalne uprave i samouprave Republike Irske. \n\n\n\nImate pitanja o prosperitetu ruralnih zajednica i otvaranja radnih mjesta u ruralnim područjima?\n\n\nZanima vas iskorištavanje najnovijih inovacija radi stvaranja održive poljoprivrede? \nIli možda kako trgovinski sporazumi pridonose povećanju izvoza poljoprivredno-prehrambenih proizvoda? \nDođite i izravno pitajte europskog povjerenika za poljoprivredu Phila Hogana\, ministra poljoprivrede Tomislava Tolušića i europarlamentarku Marijanu Petir.Priključite se raspravi! Iznesite mišljenje: #EUDialogues & @EK_Hrvatska \nPhotocredit: © European Union \, 2014   /  Source: EC – Audiovisual Service   /   Photo: Lieven Creemers
URL:https://europedirect-cakovec.eu/dogadaj/razgovarajte-o-poljoprivredi-s-europskim-povjerenikom-philom-hoganom/
LOCATION:Galerija Lauba\,  ulica Baruna Filipovića 23a\, Zagreb\, Croatia (Local Name: Hrvatska)
ATTACH;FMTTYPE=image/jpeg:https://europedirect-cakovec.eu/wp-content/uploads/2017/03/phil-hogan.jpg
END:VEVENT
END:VCALENDAR