BEGIN:VCALENDAR
VERSION:2.0
PRODID:-//Europe direct Čakovec - ECPv6.3.4//NONSGML v1.0//EN
CALSCALE:GREGORIAN
METHOD:PUBLISH
X-WR-CALNAME:Europe direct Čakovec
X-ORIGINAL-URL:https://europedirect-cakovec.eu
X-WR-CALDESC:Događaji za Europe direct Čakovec
REFRESH-INTERVAL;VALUE=DURATION:PT1H
X-Robots-Tag:noindex
X-PUBLISHED-TTL:PT1H
BEGIN:VTIMEZONE
TZID:Europe/Zagreb
BEGIN:DAYLIGHT
TZOFFSETFROM:+0100
TZOFFSETTO:+0200
TZNAME:CEST
DTSTART:20170326T010000
END:DAYLIGHT
BEGIN:STANDARD
TZOFFSETFROM:+0200
TZOFFSETTO:+0100
TZNAME:CET
DTSTART:20171029T010000
END:STANDARD
END:VTIMEZONE
BEGIN:VEVENT
DTSTART;TZID=Europe/Zagreb:20170913T090000
DTEND;TZID=Europe/Zagreb:20170913T110000
DTSTAMP:20260422T160336
CREATED:20170912T070219Z
LAST-MODIFIED:20170912T070219Z
UID:6220-1505293200-1505300400@europedirect-cakovec.eu
SUMMARY:Govor predsjednika Junckera o stanju u Uniji 2017.
DESCRIPTION:Svake godine u rujnu predsjednik Europske komisije u Europskom parlamentu drži govor o stanju Unije\, u kojem se osvrće na postignuća u protekloj godini i predstavlja prioritete za iduću godinu. U njemu predsjednik izlaže i načine na koje Komisija namjerava odgovoriti na najvažnije izazove s kojima se Europska unija suočava. \nPredsjednik Europske komisije Jean-Claude Juncker održat će govor u srijedu\, 13. rujna 2017.\, u 9:00 na plenarnom zasjedanju Europskog parlamenta u Strasbourgu. Događaj će se prenositi uživo na kanalu EbS\, a na Komisijinoj stranici na Facebooku bit će dostupan internetski prijenos uživo visoke kvalitete. \nEBS (Europe by Satellite): https://ec.europa.eu/avservices/ebs \nFacebook stranica Europske komisije: https://www.facebook.com/EuropeanCommission \n\n\n\n\n\n\n\nNakon govora slijedi plenarna rasprava kojom započinje dijalog Komisije s Parlamentom i Vijećem kako bi se pripremio radni program Komisije za iduću godinu. \nNakon opširne rasprave diljem našega kontinenta održane na Twitteru (#FutureofEurope) u kojoj su sudjelovali građani\, Europski parlament\, nacionalni parlamenti\, tijela lokalne i regionalne vlasti te civilno društvo u cjelini\, predsjednik će na temelju iznesenih ideja predstaviti svoje osobne stavove o budućnosti Europe i svoje prioritete u sljedećoj godini. \n\nOSTALE POVEZNICE: \n\n\nDodatne informacije\nTwitter\nBijela knjiga o budućnosti Europe i daljnji koraci\nGvor o stanju Unije 2016.
URL:https://europedirect-cakovec.eu/dogadaj/govor-predsjednika-junckera-o-stanju-u-uniji-2017/
ATTACH;FMTTYPE=image/jpeg:https://europedirect-cakovec.eu/wp-content/uploads/2017/09/Juncker.jpg
END:VEVENT
BEGIN:VEVENT
DTSTART;TZID=Europe/Zagreb:20170914T100000
DTEND;TZID=Europe/Zagreb:20170914T120000
DTSTAMP:20260422T160336
CREATED:20170821T071253Z
LAST-MODIFIED:20170821T071253Z
UID:6170-1505383200-1505390400@europedirect-cakovec.eu
SUMMARY:Konferencija o građevinskom otpadu i otpadu od rušenja
DESCRIPTION:Građevinski otpad i otpad od rušenja istodobno predstavljaju opasnost za okoliš i priliku za njegovu zaštitu te su velik izazov za Europsku uniju. Velika većina građevinskog otpada i otpada od rušenja može se reciklirati\, ali prosječna stopa oporabe u području EU28 manja je od 50 posto. \nOkvirnom direktivom o otpadu utvrđen je cilj recikliranja 70 posto građevinskog otpada i otpada od rušenja do 2020. godine. \nNe bi li se od te gomile otpada stvorile gospodarske\, okolišne i socijalne prilike\, stručnjaci iz sektora i Europska komisija sastavili su Protokol EU-a za gospodarenje građevinskim otpadom i otpadom od rušenja. U smjernicama je utvrđena kvaliteta materijala i proizvoda kojom će se stvoriti povjerenje u cijeli lanac gospodarenja građevinskim otpadom i otpadom od rušenja te omogućiti ostvarivanje koristi u svim koracima\, od rušenja do obnavljanja i pretvorbe s dodanom vrijednosti. To paneuropsko tržište vrijedno 7\,5 milijardi eura na dohvat je ruke\, a imalo bi golem učinak: među ostalim\, moglo bi dovesti do otvaranja tisuća radnih mjesta za kvalificirane radnike. \nPozivamo vas na sudjelovanje na hrvatskoj konferenciji koja će se održati u Zagrebu 14. rujna. Europska komisija predstavit će Protokol\, a na događaju će se okupiti dionici iz sektora kako bi razmijenili najbolje prakse i razgovarali o prilikama koje se nude. Vaše sudjelovanje u raspravi na dan konferencije od iznimne je važnosti\, a srdačno vas pozivamo da ostanete i na zakusci kako biste upoznali stručnjake sličnih interesa i s njima razmijenili iskustva. \nKonferencija će se održati u Hrvatskoj gospodarskoj komori 14. rujna prije podne. \n\n\n\n\n\n\n\n\n\n\n\n\n  Prijave za sudjelovanje\nCilj konferencije jest potaknuti vas da iskoristite priliku za održivi razvoj sektora građevinskog otpada i otpada od rušenja.
URL:https://europedirect-cakovec.eu/dogadaj/konferencija-o-gradevinskom-otpadu-i-otpadu-od-rusenja/
LOCATION:Hrvatska gospodarska komora\, Zagreb\, Croatia (Local Name: Hrvatska)
ATTACH;FMTTYPE=image/jpeg:https://europedirect-cakovec.eu/wp-content/uploads/2017/08/construction-2495413_960_720.jpg
END:VEVENT
BEGIN:VEVENT
DTSTART;TZID=Europe/Zagreb:20170922T100000
DTEND;TZID=Europe/Zagreb:20170922T110000
DTSTAMP:20260422T160336
CREATED:20170918T065337Z
LAST-MODIFIED:20170918T065440Z
UID:6230-1506074400-1506078000@europedirect-cakovec.eu
SUMMARY:Đir po gradu povodom Dana bez automobila / ETM2017
DESCRIPTION:Ove godine Europski tjedan mobilonosti obilježiti ćemo 22. rujna u Čakovcu na Trgu Republike gdje se održava Sajam prevencije i sigurnosti u organizaciji Policijske uprave međimurske. \nEuropski tjedan mobilnosti održava se svake godine od 16. do 22. rujna kako bi se potaklo europske lokalne vlasti na uvođenje i promicanje mjera održivog prijevoza te pozvalo stanovnike da isprobaju alternative korištenju automobila. \nVrhunac je tjedna dan bez automobila koji se održava upravo 22. rujna i tijekom kojeg gradovi sudionici rezerviraju jednu ili više zona isključivo za pješake\, bicikliste i javni prijevoz. U 2016. 953 grada organizirala su dan bez automobila. Grad Čakovec će barem na neko vrijeme prepustiti svoje ulice biciklistima koji će napraviti ĐIR OKO GRADA kako bi ukazali na važnost korištenja drugih preijevoznih sredstava osim automobila. \nSvako izdanje EUROPSKOG TJEDANA MOBILNOSTI posvećeno je određenoj temi iz područja održive mobilnosti. Ovogodišnja je tema uredotočena na koncept s kojim se čovječanstvo oduvijek razvijalo – kroz dijeljenje:„ekološka\, zajednička i inteligentna mobilnost” i poziva na uključivanje u akciju “dijeljenjem dobivate više”. Potiču se zajednička rješenja za mobilnost i ističu prednosti ekološki osvještenijih načina prijevoza. Inteligentne prijevozne tehnologije olakšavaju zajedničko korištenje. Stanovnike gradova i naselja se potiče na korištenje dostupnih zajedničkih mogućnosti gradskog\, međugradskog i prigradskog prijevoza a svaki automobil koji se koristi za zajedničku vožnju pomaže u smanjivanju ukupnog broja vozila na cesti. Osim toga\, možemo upoznati nove ljude i učiniti naše putovanje društvenijim.
URL:https://europedirect-cakovec.eu/dogadaj/dir-po-gradu-povodom-dana-bez-automobila-etm2017/
LOCATION:Grad Čakovec\, Trg Republike\, Čakovec\, Croatia (Local Name: Hrvatska)
ATTACH;FMTTYPE=image/jpeg:https://europedirect-cakovec.eu/wp-content/uploads/2017/09/EMW_Facebook_2017-1-edic-cakovec.jpg
END:VEVENT
END:VCALENDAR