BEGIN:VCALENDAR
VERSION:2.0
PRODID:-//Europe direct Čakovec - ECPv6.3.4//NONSGML v1.0//EN
CALSCALE:GREGORIAN
METHOD:PUBLISH
X-WR-CALNAME:Europe direct Čakovec
X-ORIGINAL-URL:https://europedirect-cakovec.eu
X-WR-CALDESC:Događaji za Europe direct Čakovec
REFRESH-INTERVAL;VALUE=DURATION:PT1H
X-Robots-Tag:noindex
X-PUBLISHED-TTL:PT1H
BEGIN:VTIMEZONE
TZID:Europe/Zagreb
BEGIN:DAYLIGHT
TZOFFSETFROM:+0100
TZOFFSETTO:+0200
TZNAME:CEST
DTSTART:20180325T010000
END:DAYLIGHT
BEGIN:STANDARD
TZOFFSETFROM:+0200
TZOFFSETTO:+0100
TZNAME:CET
DTSTART:20181028T010000
END:STANDARD
END:VTIMEZONE
BEGIN:VEVENT
DTSTART;TZID=Europe/Zagreb:20181108T120000
DTEND;TZID=Europe/Zagreb:20181108T160000
DTSTAMP:20260421T174516
CREATED:20181106T140137Z
LAST-MODIFIED:20181106T140137Z
UID:7050-1541678400-1541692800@europedirect-cakovec.eu
SUMMARY:DRUGI MEĐUNARODNI DIJALOG IZMEĐU GRAĐANA SLOVENIJE\, AUSTRIJE I HRVATSKE – „KAKVU EUROPU ŽELIMO?“
DESCRIPTION:U Industrial baru Metalac te Gimnaziji Josipa Slavenskog u Čakovcu će se u četvrtak\, 8. studenoga od 12 sati održati Drugi međunarodni dijalog između građana Slovenije\, Austrije i Hrvatske. Radi se o inicijativi Europske komisije (Međunarodni dijalozi s građanima). Drugi međunarodni dijalog održava se pod nazivom „Kakvu Europu želimo?“ i dio je pilot projekta kojim se želi potaknuti građane Europe\, a osobito mlade\, da razmišljaju i razgovaraju o budućnosti. \nDijalog se održava u tri dijela\, od kojih se svaki bavi određenom temom koje se nadovezuju jedna na drugu. Prvi dio dijaloga već je odrađen u Ljutomeru\, gdje se raspravljalo o tome kakva je Europa trenutno dok će drugi dio biti orijentiran na budućnost. Sudionici iz Međimurske županije su studenti Međimurskog veleučilišta te učenici četvrtih razreda Srednje škole Čakovec i Gimnazije Josipa Slavenskog u kojoj će se održati prvi dio manifestacije. Sudionicima će se obratiti i međimurski župan Matija Posavec. \nRad u grupama bit će prezentiran na panelu koji se održava odmah nakon rasprava. Panelisti su Branko Baričević (Voditelj Predstavništva Europske Komisije u Hrvatskoj)\, Matija Derk (EU savjetnik) i Lovro Rusak (EU projektni menadžer i mladi poduzetnik). Završetak je planiran u 16 sati.
URL:https://europedirect-cakovec.eu/dogadaj/drugi-medunarodni-dijalog-izmedu-gradana-slovenije-austrije-i-hrvatske-kakvu-europu-zelimo/
LOCATION:Metalac Industrial bar\, Čakovec\, Croatia (Local Name: Hrvatska)
ATTACH;FMTTYPE=image/jpeg:https://europedirect-cakovec.eu/wp-content/uploads/2018/11/260C14_Facebook-Cover-Photo_851x315px2.jpg
END:VEVENT
END:VCALENDAR