BEGIN:VCALENDAR
VERSION:2.0
PRODID:-//Europe direct Čakovec - ECPv6.3.4//NONSGML v1.0//EN
CALSCALE:GREGORIAN
METHOD:PUBLISH
X-WR-CALNAME:Europe direct Čakovec
X-ORIGINAL-URL:https://europedirect-cakovec.eu
X-WR-CALDESC:Događaji za Europe direct Čakovec
REFRESH-INTERVAL;VALUE=DURATION:PT1H
X-Robots-Tag:noindex
X-PUBLISHED-TTL:PT1H
BEGIN:VTIMEZONE
TZID:Europe/Zagreb
BEGIN:DAYLIGHT
TZOFFSETFROM:+0100
TZOFFSETTO:+0200
TZNAME:CEST
DTSTART:20190331T010000
END:DAYLIGHT
BEGIN:STANDARD
TZOFFSETFROM:+0200
TZOFFSETTO:+0100
TZNAME:CET
DTSTART:20191027T010000
END:STANDARD
BEGIN:DAYLIGHT
TZOFFSETFROM:+0100
TZOFFSETTO:+0200
TZNAME:CEST
DTSTART:20200329T010000
END:DAYLIGHT
BEGIN:STANDARD
TZOFFSETFROM:+0200
TZOFFSETTO:+0100
TZNAME:CET
DTSTART:20201025T010000
END:STANDARD
BEGIN:DAYLIGHT
TZOFFSETFROM:+0100
TZOFFSETTO:+0200
TZNAME:CEST
DTSTART:20210328T010000
END:DAYLIGHT
BEGIN:STANDARD
TZOFFSETFROM:+0200
TZOFFSETTO:+0100
TZNAME:CET
DTSTART:20211031T010000
END:STANDARD
BEGIN:DAYLIGHT
TZOFFSETFROM:+0100
TZOFFSETTO:+0200
TZNAME:CEST
DTSTART:20220327T010000
END:DAYLIGHT
BEGIN:STANDARD
TZOFFSETFROM:+0200
TZOFFSETTO:+0100
TZNAME:CET
DTSTART:20221030T010000
END:STANDARD
BEGIN:DAYLIGHT
TZOFFSETFROM:+0100
TZOFFSETTO:+0200
TZNAME:CEST
DTSTART:20230326T010000
END:DAYLIGHT
BEGIN:STANDARD
TZOFFSETFROM:+0200
TZOFFSETTO:+0100
TZNAME:CET
DTSTART:20231029T010000
END:STANDARD
END:VTIMEZONE
BEGIN:VEVENT
DTSTART;VALUE=DATE:20190120
DTEND;VALUE=DATE:20190302
DTSTAMP:20260421T235448
CREATED:20190122T113144Z
LAST-MODIFIED:20190122T113144Z
UID:7337-1547942400-1551484799@europedirect-cakovec.eu
SUMMARY:NAGRADNI NATJEČAJ ZA VIDEORADOVE #EDICHRVATSKA #OVAJPUTGLASAM
DESCRIPTION:PRIJAVI SE DO 1. 3. 2019. na nagradni natječaj za videoradove informacijskih centara Europe Direct u Hrvatskoj #EDICHrvatska #Ovajputglasam \nMladi\, sudjelujte u našem nagradnom natječaju #EDICHrvatska #Ovajputglasam i osvojite vrijedne nagrade! \nNatječaj je otvoren od 20. siječnja do 1. ožujka 2019. godine! \nKako sudjelovati? \nSudjelovati možeš tako da na Facebooku/Instagramu/You Tubeu objaviš videorad s hashtagovima #EDICHrvatska#Ovajputglasam u trajanju od najviše 60 sekundi u kojem ćeš na kreativan i mladima primjeren način objasniti zbog čega ćeš glasati na izborima za Europski parlament 2019. godine. Krilatica i hashtagovi videokampanje su #Ovajputglasami #IzboriEU2019. Najkreativniji\, najduhovitiji i najautentičniji videoradovi ući će u izbor za pobjednike nagradnog natječaja. \nObavezno rad pošalji na adresu e-pošte edic.natjecaj@gmail.com\, po potrebi i Jumbo mailom ili WeTransferom. \n Vrijedne nagrade \nDesetero autora najkreativnijih videoodgovora na pitanje zašto bi mladih trebali izaći na izbore za Europski parlament 2019. osvojit će sudjelovanje na Međunarodnom parlamentu mladih „Kakvu Europu želimo?“ te posjet institucijama EU-a u Bruxellesu. Autor najduhovitijeg videorada osvojit će digitalnu videokameru\, a najautentičnijeg elektronički čitač knjiga (e‑book reader). \nPobjednici će biti objavljeni na Instagramu/Twitteru/Facebooku i web-stranicama informacijskih centara Europe Direct i Predstavništva Europske komisije u Hrvatskoj najkasnije 10 dana nakon završetka natječaja. \nPravila natječaja
URL:https://europedirect-cakovec.eu/dogadaj/nagradni-natjecaj-za-videoradove-edichrvatska-ovajputglasam/
ATTACH;FMTTYPE=image/jpeg:https://europedirect-cakovec.eu/wp-content/uploads/2019/01/EK_847x477_cakovec_21-1-19.jpg
END:VEVENT
BEGIN:VEVENT
DTSTART;TZID=Europe/Zagreb:20190325T100000
DTEND;TZID=Europe/Zagreb:20190325T140000
DTSTAMP:20260421T235448
CREATED:20190508T090146Z
LAST-MODIFIED:20190508T090146Z
UID:7756-1553508000-1553522400@europedirect-cakovec.eu
SUMMARY:EU Caffe - „Neka se i moj glas čuje!“
DESCRIPTION:Prvi međužupanijski EU Caffe pod nazivom „Neka se i moj glas čuje!“ koji će organizirati Informacijski centar EUROPE DIRECT Čakovec i Gimnazija Josipa Slavenskog Čakovec. Raspravljat će se o temama poput ravnopravnosti spolova u politici\, sudjelovanju dijaspore u politici\, pitanju nacionalnih manjina i ruralnih područja u politici\, političkoj participaciji mladih i osoba starije životne dobi te uvođenja obaveznog glasanja i sustava e-glasanja. Debate će prisustvovatii njihovi kolege iz Gimnazije Karlovac.
URL:https://europedirect-cakovec.eu/dogadaj/eu-caffe-neka-se-i-moj-glas-cuje/
END:VEVENT
BEGIN:VEVENT
DTSTART;TZID=Europe/Zagreb:20190412T100000
DTEND;TZID=Europe/Zagreb:20190412T150000
DTSTAMP:20260421T235448
CREATED:20190508T085916Z
LAST-MODIFIED:20190508T085916Z
UID:7754-1555063200-1555081200@europedirect-cakovec.eu
SUMMARY:EU brunch - Karlovac
DESCRIPTION:Druženje mladih gimnazijalaca iz Čakovca i Karlovca koje smo započeli debatom EU CAFFE – Neka se i moj glas čuje! u Čakovcu\, nastavit će mo u Karlovcu.
URL:https://europedirect-cakovec.eu/dogadaj/eu-brunch-karlovac/
END:VEVENT
BEGIN:VEVENT
DTSTART;TZID=Europe/Zagreb:20190507T110000
DTEND;TZID=Europe/Zagreb:20190507T130000
DTSTAMP:20260421T235448
CREATED:20190508T061555Z
LAST-MODIFIED:20190508T061555Z
UID:7699-1557226800-1557234000@europedirect-cakovec.eu
SUMMARY:Finale EU kviza za sedme razrede
DESCRIPTION:Tradicionalno sedamnaesto izdanje EU kviza te su mnoge generacije o Europskoj uniji prvi puta učili pripremajući se upravo za ovaj kviz znanja. Kviz  se provodi u dva kruga\, kvalifikacijski krug\, koji se održao sredinom travnja te su u njemu imale mogućnost sudjelovati sve osnovne škole\, dok je u finalni krug ušlo 6 najboljih timova. \nOvaj put za finale nas ugošćuje II. OŠ Čakovec.
URL:https://europedirect-cakovec.eu/dogadaj/finale-eu-kviza-za-sedme-razrede/
END:VEVENT
BEGIN:VEVENT
DTSTART;TZID=Europe/Zagreb:20190509T200000
DTEND;TZID=Europe/Zagreb:20190509T220000
DTSTAMP:20260421T235448
CREATED:20190508T084727Z
LAST-MODIFIED:20190508T084727Z
UID:7742-1557432000-1557439200@europedirect-cakovec.eu
SUMMARY:EU Pub quiz "Stari hrast"
DESCRIPTION:Na starom mjestu u “Starom hrastu” povodom Dana Europe\, tematski EU Pub QUIZ. Za natjecatelje pripremljene prigodne nagrade\, a neka pobjedi najpametniji.
URL:https://europedirect-cakovec.eu/dogadaj/eu-pub-quiz-stari-hrast/
END:VEVENT
BEGIN:VEVENT
DTSTART;TZID=Europe/Zagreb:20190510T100000
DTEND;TZID=Europe/Zagreb:20190510T120000
DTSTAMP:20260421T235448
CREATED:20190508T085055Z
LAST-MODIFIED:20190508T085055Z
UID:7746-1557482400-1557489600@europedirect-cakovec.eu
SUMMARY:Dani otvorenih vrata EU projekata
DESCRIPTION:U sklopu „Dana otvorenih vrata EU projekata” svoja vrata otvoriti će i Palača turizma\, ovog petka\, 10. svibnja od 10 do 12 sati. Nekadašnja stražarnica u bivšoj čakovečkoj vojarni rekonstruirana je i prenamijenjena u Međimursku palaču turizma koja je postala sjedištem Turističke zajednice Međimurske županije. U rekonstrukciju i opremanje uloženo je četiri milijuna kuna\, a Europska unija sufinancirala je 85 posto. U 10 sati u Palači turizma biti će održano i predavanje za mlade pod nazivom Upoznaj EU Međimurje na kojem će na zabavan način biti prezentirani neki od važnijih projekata u Međimurju.
URL:https://europedirect-cakovec.eu/dogadaj/dani-otvorenih-vrata-eu-projekata/
END:VEVENT
BEGIN:VEVENT
DTSTART;TZID=Europe/Zagreb:20190510T100000
DTEND;TZID=Europe/Zagreb:20190510T130000
DTSTAMP:20260421T235448
CREATED:20190508T084907Z
LAST-MODIFIED:20190508T084907Z
UID:7744-1557482400-1557493200@europedirect-cakovec.eu
SUMMARY:Dan Europe
DESCRIPTION:Na Trgu Republike u Čakovcu učenici osnovnih i srednjih škola predstaviti neke od država članica Europske unije. Imat ćemo priliku pobliže upoznati Austriju\, Finsku\, Irsku\, Španjolsku\, Grčku\, Italiju i Portugal\, njihove specifičnosti ali i prednosti koje im je članstvo u EU donijelo. Također\, građani će se moći  informirati o nadolazećim europskim izborima i o kampanji ovajputglasam.eu. Druženje počinje u 10 sati\, a svi oni  koji se tom prilikom nađu u blizini te na štandu Informacijskog centra EUROPE DIRECT Čakovec podjele zašto ovaj put glasaju očekuje i poneka sitnica.
URL:https://europedirect-cakovec.eu/dogadaj/dan-europe/
END:VEVENT
BEGIN:VEVENT
DTSTART;TZID=Europe/Zagreb:20190513T120000
DTEND;TZID=Europe/Zagreb:20190513T140000
DTSTAMP:20260421T235448
CREATED:20190508T085303Z
LAST-MODIFIED:20190508T085303Z
UID:7748-1557748800-1557756000@europedirect-cakovec.eu
SUMMARY:Završno događanje projekta 1\,2\,3...PALIM LAMPICU!
DESCRIPTION:U Palači turizma u Čakovcu održati će se i završno događanje projekta ‘1\,2\,3…PALIM LAMPICU! – razvoj sustava podrške (potencijalno) darovitim učenicima u Međimurskoj županiji’. Riječ je o dvogodišnjem projektu koji je nudio individualizirane i obogaćene programe koji se nadovezuju na sadržaje redovitog obrazovanja\, a provodio se u tri srednje škole\, Tehničkoj školi\, Gimnaziji Josipa Slavenskoga i Ekonomskoj i Trgovačkoj školi Čakovec\, uz podjelu po područjima – prirodno i tehničko te društveni mehanizmi.
URL:https://europedirect-cakovec.eu/dogadaj/zavrsno-dogadanje-projekta-123-palim-lampicu/
END:VEVENT
BEGIN:VEVENT
DTSTART;TZID=Europe/Zagreb:20190513T170000
DTEND;TZID=Europe/Zagreb:20190513T190000
DTSTAMP:20260421T235448
CREATED:20190508T085502Z
LAST-MODIFIED:20190508T085502Z
UID:7750-1557766800-1557774000@europedirect-cakovec.eu
SUMMARY:Kviz općeg znanja o Europi\, Europskoj uniji i još koječemu za učenike srednjih škola
DESCRIPTION:U Gradskoj kavani u Čakovcu s početkom u 17:00 sati održati će se Kviz općeg znanja o Europi\, Europskoj uniji i još koječemu za učenike srednjih škola. Srednjoškolci mogu provesti ležernih 96 minuta u ugodnom društvu i opuštenoj atmosferi sa svojim vršnjacima iz drugih srednjih škola te uz sokove i grickalice provjeri svoja (sa)znanja o Europskoj uniji…i još koječemu. Najbolje tri ekipe i ovoga puta očekuju vrijedne nagrade!
URL:https://europedirect-cakovec.eu/dogadaj/kviz-opceg-znanja-o-europi-europskoj-uniji-i-jos-kojecemu-za-ucenike-srednjih-skola/
END:VEVENT
BEGIN:VEVENT
DTSTART;TZID=Europe/Zagreb:20190516T140000
DTEND;TZID=Europe/Zagreb:20190516T160000
DTSTAMP:20260421T235448
CREATED:20190508T085619Z
LAST-MODIFIED:20190516T060958Z
UID:7752-1558015200-1558022400@europedirect-cakovec.eu
SUMMARY:Dani otvorenih vrata poduzetnika
DESCRIPTION:U konferencijskoj dvorani Tehnološko informacijskog centra Međimurje održat će se  “Dani otvorenih vrata poduzetnika” te predstavljanje poduzetničkih projekata.
URL:https://europedirect-cakovec.eu/dogadaj/dani-otvorenih-vrata-poduzetnika/
END:VEVENT
BEGIN:VEVENT
DTSTART;TZID=Europe/Zagreb:20220701T110000
DTEND;TZID=Europe/Zagreb:20220701T123000
DTSTAMP:20260421T235448
CREATED:20220621T131953Z
LAST-MODIFIED:20220621T132207Z
UID:10102-1656673200-1656678600@europedirect-cakovec.eu
SUMMARY:RADIONICA “UVOĐENJE EURA” ZA PODUZETNIKE\, OBRTE\, JLS-OVE I OPG-OVE
DESCRIPTION:Pozivamo vas na radionicu „Uvođenje eura“ namijenjenu poduzetnicima\, obrtnicima\, OPG-ovima i JLPS-ovima koja će održati u petak\, 1. srpnja u 11 sati u zgradi Scheier u Čakovcu\, Matice hrvatske 2 u organizaciji EUROPE DIRECT Čakovec centra i Predstavništva Europske komisije u Hrvatskoj. \nŠest mjeseci dijeli nas od dana kada euro postaje službena valuta u Republici Hrvatskoj. Hrvatska ispunjava sve kriterije i spremna je za uvođenje eura 1. siječnja 2023\, ukoliko se to službeno i potvrdi u odluci Vijeća EU-a tijekom srpnja. Proces uvođenja nove valute zahtjeva prilagodbe i promjene\, kako poslovnih procesa tako i pravovremeno osposobljavanje radnika za rad u novoj službenoj valuti.  Izrazito je važno ne podcijeniti opseg aktivnosti i prilagodbe koje je potrebno poduzeti kako bi se svaki poslovni subjekt pravovremeno pripremio za poslovanje u novoj službenoj valuti. \nKoje su glavne odrednice postupka uvođenja eura kao službene valute u Republici Hrvatskoj sadržane u krovnom Zakonu o uvođenju eura kao službene valute u Republici Hrvatskoj (NN 57/22)\, što je to Etički kodeks i zašto bi se poslovni subjekti koji su u direktnom odnosu s potrošačem trebali priključiti toj inicijativi\, koje su najvažnije aktivnosti i potrebne zakonske prilagodbe u postupku uvođenja eura za gospodarstvenike i tijela javne vlasti možete saznati od stručnih suradnika iz prakse koji su uključeni u proces uvođenja eura. Također\, ukratko će biti predstavljena iskustva iz drugih zemalja članica gdje je euro zajednička valuta. \nMolimo vas da svoj dolazak potvrdite popunjavanjem online obrasca (https://forms.gle/r2nprABu9GKVxj3S8) najkasnije do 30. lipnja do 12 sati. \nZa sva pitanja stojimo na raspolaganju putem maila info@europedirect-cakovec.eu ili putem telefona 040/374-016. \nVeselimo se vašem dolasku. \nPOZIV-RADIONICA-„UVOĐENJE-EURA“Preuzmi\n\nPROGRAM-RADIONICA-„UVOĐENJE-EURA“Preuzmi
URL:https://europedirect-cakovec.eu/dogadaj/radionica-uvodenje-eura-za-poduzetnike-obrte-jls-ove-i-opg-ove/
LOCATION:Zgrada Scheier\, Čakovec
END:VEVENT
BEGIN:VEVENT
DTSTART;VALUE=DATE:20230923
DTEND;VALUE=DATE:20230930
DTSTAMP:20260421T235448
CREATED:20230922T064520Z
LAST-MODIFIED:20230922T064520Z
UID:10813-1695427200-1696031999@europedirect-cakovec.eu
SUMMARY:EUROPSKI TJEDAN SPORTA U MEĐIMURJU
DESCRIPTION:Od 23.-30. rujna obilježit će se Europski tjedan sporta\, u sklopu kojega je prva aktivnost 7. Festival nordijskog hodanja i pješačenja\, koji se održava na Sportsko-rekreacijskoj zoni Marina u Prelogu ove subote 23. rujna. \nA 29. rujna (u petak) u 11h na Trgu Republike u Čakovcu održat će se “BeACTIVE sat tjelesne i zdravstvene kulture na otvorenom uz FlashMOVE plesni događaj“\, u sklopu kojega će se obilježiti i Svjetski dan srca. \nU organizaciji Grada Mursko Središće i USR Sport za Sve Mursko Središće\, u Murskom Središću će se u periodu od 25. rujna do 29. rujna održati brojne aktivnosti za osobe svih generacija\, od nordijskog hodanja\, do rekreativnih igara\, nogometnih i košarkaških utakmica do vježbanja na radnom mjestu.
URL:https://europedirect-cakovec.eu/dogadaj/europski-tjedan-sporta-u-medimurju/
END:VEVENT
END:VCALENDAR