BEGIN:VCALENDAR
VERSION:2.0
PRODID:-//Europe direct Čakovec - ECPv6.3.4//NONSGML v1.0//EN
CALSCALE:GREGORIAN
METHOD:PUBLISH
X-WR-CALNAME:Europe direct Čakovec
X-ORIGINAL-URL:https://europedirect-cakovec.eu
X-WR-CALDESC:Događaji za Europe direct Čakovec
REFRESH-INTERVAL;VALUE=DURATION:PT1H
X-Robots-Tag:noindex
X-PUBLISHED-TTL:PT1H
BEGIN:VTIMEZONE
TZID:Europe/Zagreb
BEGIN:DAYLIGHT
TZOFFSETFROM:+0100
TZOFFSETTO:+0200
TZNAME:CEST
DTSTART:20160327T010000
END:DAYLIGHT
BEGIN:STANDARD
TZOFFSETFROM:+0200
TZOFFSETTO:+0100
TZNAME:CET
DTSTART:20161030T010000
END:STANDARD
END:VTIMEZONE
BEGIN:VEVENT
DTSTART;TZID=Europe/Zagreb:20160914T090000
DTEND;TZID=Europe/Zagreb:20160914T120000
DTSTAMP:20260421T211805
CREATED:20160912T074417Z
LAST-MODIFIED:20160912T074417Z
UID:5270-1473843600-1473854400@europedirect-cakovec.eu
SUMMARY:Stanje u Uniji 2016.
DESCRIPTION:U srijedu 14. rujna 2016. predsjednik Europske komisije\, Jean-Claude Juncker\, održat će govor o stanju Europske unije u plenarnoj dvorani Europskog parlamenta (u Strasbourgu). \nPredsjednik Juncker osvrnut će se na postignuća u proteklih godinu dana\, predstavit će prioritete za nadolazeću godinu te će objasniti na koji će način Europska komisija reagirati na najveće izazove s kojima se suočava Europska unija. \nGovor o stanju Europske unije tradicionalno označava početak dijaloga s Europskim parlamentom i Vijećem Europske unije (kao što je to predviđeno Lisabonskim ugovorom) kako bi se pripremio Radni program Komisije za 2017. \nNakon govora uslijedit će plenarna rasprava. \nViše: http://europa.eu/!QT67DC \nStanje u Europskoj Uniji 2015. \nDeset prioriteta Europske komisije \n#SOTEU \n 
URL:https://europedirect-cakovec.eu/dogadaj/stanje-u-uniji-2016/
LOCATION:Europski parlament\, Strassbourg\, France
ATTACH;FMTTYPE=image/png:https://europedirect-cakovec.eu/wp-content/uploads/2016/09/stanje-u-europi.png
END:VEVENT
BEGIN:VEVENT
DTSTART;TZID=Europe/Zagreb:20160511T180000
DTEND;TZID=Europe/Zagreb:20160511T230000
DTSTAMP:20260421T211805
CREATED:20160503T171215Z
LAST-MODIFIED:20160503T171306Z
UID:4448-1462989600-1463007600@europedirect-cakovec.eu
SUMMARY:Pub Quiz
DESCRIPTION:U sklopu poticanja suradnje s drugim županijama održati će se 8. po redu Pub Quiz u kojem će svoje znanje o europskoj povijesti\, kulturi\, povijesti\, sportu\, zemljopisu odmjerile ekipe iz nekoliko sjevernih županija RH. U sastavu ekipa biti će srednjoškolci\, profesori\, novinari i djelatnici županija. Kviz će svake godine gostovati u drugoj županiji\, a županija domaćin mora osigurati nagrade.
URL:https://europedirect-cakovec.eu/dogadaj/pub-quiz/
LOCATION:– Pivnica “Medina škrinja“\, Varaždin\, Croatia (Local Name: Hrvatska)
CATEGORIES:EU tjedan
END:VEVENT
BEGIN:VEVENT
DTSTART;TZID=Europe/Zagreb:20160509T170000
DTEND;TZID=Europe/Zagreb:20160509T190000
DTSTAMP:20260421T211805
CREATED:20160503T171059Z
LAST-MODIFIED:20160503T171059Z
UID:4446-1462813200-1462820400@europedirect-cakovec.eu
SUMMARY:European Pub Quiz za srednje škole
DESCRIPTION:EU kviz za učenike srednjih škola u organizaciji Srednje škole Čakovec.
URL:https://europedirect-cakovec.eu/dogadaj/european-pub-quiz-za-srednje-skole/
LOCATION:Srednja škola Čakovec\, Čakovec\, Croatia (Local Name: Hrvatska)
CATEGORIES:EU tjedan
END:VEVENT
BEGIN:VEVENT
DTSTART;TZID=Europe/Zagreb:20160509T100000
DTEND;TZID=Europe/Zagreb:20160509T120000
DTSTAMP:20260421T211805
CREATED:20160503T170948Z
LAST-MODIFIED:20160503T170948Z
UID:4444-1462788000-1462795200@europedirect-cakovec.eu
SUMMARY:Dan Europe u Čakovcu
DESCRIPTION:Na glavnom trgu biti će postavljeni info-štandovi na kojima će se dijelili promotivni materijali\, a građani će moći izravno dobiti odgovore na pitanja vezana za Europsku uniju.
URL:https://europedirect-cakovec.eu/dogadaj/dan-europe-u-cakovcu/
LOCATION:Trg Republike\, Čakovec\, Croatia (Local Name: Hrvatska)
CATEGORIES:EU tjedan
END:VEVENT
BEGIN:VEVENT
DTSTART;TZID=Europe/Zagreb:20160506T100000
DTEND;TZID=Europe/Zagreb:20160506T120000
DTSTAMP:20260421T211805
CREATED:20160503T170842Z
LAST-MODIFIED:20160503T170842Z
UID:4442-1462528800-1462536000@europedirect-cakovec.eu
SUMMARY:DJEČJI EU PARLAMENT
DESCRIPTION:Djeca dječjeg vrtića Dječja mašta\, s odgajateljicom Ivanom Pečarko na čelu projekta\, održao je svoju zadnju (5.) sjednicu 2015. godine povodom Dana Europe. U sklopu ovog edukativnog i zabavnog događaja djeca vrtićke dobi predstavljaju svoje znanje o Europi i Europskoj uniji. Svrha ovog projekta jest upoznavanje djece sa drugim kulturama\, učenje o različitosti i multikulturalnosti.
URL:https://europedirect-cakovec.eu/dogadaj/djecji-eu-parlament/
LOCATION:velika vijećnica Međimurske županija\, Čakovec\, Croatia (Local Name: Hrvatska)
CATEGORIES:EU tjedan
END:VEVENT
BEGIN:VEVENT
DTSTART;TZID=Europe/Zagreb:20160505T100000
DTEND;TZID=Europe/Zagreb:20160505T120000
DTSTAMP:20260421T211805
CREATED:20160503T170603Z
LAST-MODIFIED:20160503T171516Z
UID:4440-1462442400-1462449600@europedirect-cakovec.eu
SUMMARY:Dan Europe u Murskom Središću
DESCRIPTION:Promotivni štand u Murskom Središću čiji će se građani također moći informirati o EU. Osim info štandova\, biti će organizirane i igraonice za djecu dječjih vrtića.
URL:https://europedirect-cakovec.eu/dogadaj/dan-europe-u-murskom-srediscu/
LOCATION:Šetnica uz Muru\, Mursko Središće\, Croatia (Local Name: Hrvatska)
CATEGORIES:EU tjedan
END:VEVENT
BEGIN:VEVENT
DTSTART;TZID=Europe/Zagreb:20160504T110000
DTEND;TZID=Europe/Zagreb:20160504T140000
DTSTAMP:20260421T211805
CREATED:20160503T170454Z
LAST-MODIFIED:20160503T170454Z
UID:4438-1462359600-1462370400@europedirect-cakovec.eu
SUMMARY:Finale 14. EU-KVIZ
DESCRIPTION:Za učenike sedmih razreda osnovnih škola organiziramo natjecanje u poznavanju tema vezanih za Europsku uniju\, koje se ove godine održava 14. put.
URL:https://europedirect-cakovec.eu/dogadaj/finale-14-eu-kviz/
LOCATION:OŠ Mursko Središće\, Mursko Središće\, Croatia (Local Name: Hrvatska)
CATEGORIES:EU tjedan
END:VEVENT
END:VCALENDAR